Workbook
Name 常勤換算: #REF!
Name 常勤換算: #REF!
Name 常勤換算: #REF!
Name 常勤換算: #REF!
Name 常勤換算: #REF!
Name 常勤換算: #REF!
Name 相談系事業所: '(1)基本シート'!$AZ$14:$AZ$18
Name 通所系事業所: '(1)基本シート'!$AX$14:$AX$30
Name 入所系事業所: '(1)基本シート'!$AW$14:$AW$29
Name 訪問系事業所: '(1)基本シート'!$AY$14:$AY$31

Sheet 事業所区分
A1: 事業所区分
E3: 事業
A4: 事業所区分 | E4: 事業種別
A5: 入所系事業所 | D5: ア | E5: 介護老人福祉施設
D6: イ | E6: 短期入所生活介護（介護予防サービスあり）
E7: 短期入所生活介護（介護予防サービスなし）
D8: ウ | E8: 地域密着型介護老人福祉施設
D9: エ | E9: 介護老人保健施設
D10: オ | E10: 短期入所療養介護（介護予防サービスあり）
E11: 短期入所療養介護（介護予防サービスなし）
D12: カ | E12: 認知症対応型共同生活介護（介護予防サービスあり）
E13: 認知症対応型共同生活介護（介護予防サービスなし）
D14: キ | E14: 養護老人ホーム
D15: ク | E15: 軽費老人ホーム
D16: ケ | E16: 短期入所
D17: コ | E17: 施設入所施設
D18: サ | E18: 共同生活援助
D19: シ | E19: 福祉型障害児入所施設
D20: ス | E20: 児童養護施設
A21: 通所系事業所 | D21: ア | E21: 通所介護（現行相当あり）
A22: ※通所系事業所（入浴介助あり）と通所系事業所（入浴介助なし）に分かれます。 | E22: 通所介護（現行相当なし）
D23: イ | E23: 地域密着型通所介護（現行相当あり）
E24: 地域密着型通所介護（現行相当なし）
D25: ウ | E25: 認知症対応型通所介護（介護予防サービスあり）
E26: 認知症対応型通所介護（介護予防サービスなし）
D27: エ | E27: 通所リハビリテーション（介護予防サービスあり）
E28: 通所リハビリテーション（介護予防サービスなし）
D29: オ | E29: 小規模多機能型居宅介護（介護予防サービスあり）
E30: 小規模多機能型居宅介護（介護予防サービスなし）
D31: カ | E31: 介護予防・日常生活支援総合事業第１号通所事業（国基準通所型サービス）
D32: キ | E32: 生活介護
D33: ク | E33: 就労移行支援
D34: ケ | E34: 就労継続支援（A型・B型）
D35: コ | E35: 就労選択支援
D36: サ | E36: 児童発達支援
D37: シ | E37: 放課後等デイサービス
A38: 訪問系事業所 | D38: ア | E38: 訪問介護（介護予防サービスあり・現行相当あり）
E39: 訪問介護（介護予防サービスあり・現行相当なし）
E40: 訪問介護（介護予防サービスなし・現行相当あり）
E41: 訪問介護（介護予防サービスなし・現行相当なし）
D42: イ | E42: 定期巡回・随時対応型訪問介護看護
D43: ウ | E43: 訪問入浴介護（介護予防サービスあり）
E44: 訪問入浴介護（介護予防サービスなし）
D45: エ | E45: 訪問看護（介護予防サービスあり）
E46: 訪問看護（介護予防サービスなし）
D47: オ | E47: 訪問リハビリテーション（介護予防サービスあり）
E48: 訪問リハビリテーション（介護予防サービスなし）
D49: カ | E49: 介護予防・日常生活支援総合事業第１号訪問事業（国基準訪問型サービス）
D50: キ | E50: 配食サービス事業
D51: ク | E51: 居宅介護
D52: ケ | E52: 同行援護
D53: コ | E53: 重度訪問介護
D54: サ | E54: 就労定着支援
D55: シ | E55: 自立生活援助
D56: ス | E56: 保育所等訪問支援
D57: セ | E57: 居宅訪問型児童発達支援
A58: 相談系事業所 | D58: ア | E58: 居宅介護支援
D59: イ | E59: 介護予防支援
D60: ウ | E60: 介護用品給付事業
D61: エ | E61: 計画相談支援
D62: オ | E62: 地域移行支援
D63: カ | E63: 地域定着支援

Sheet アンケート
A1: 丹波市福祉事業所物価高騰対策支援金 アンケート
A2: 平素は丹波市福祉行政にご支援とご協力いただきありがとうございます。 今後の丹波市福祉行政に活用するため、お手数ですが以下のアンケートについてご回答をお願いします。
T4: 提出日 | X4: ='(1)基本シート'!M6 -> 0
J6: 事業所名 | N6: ='(1)基本シート'!M10 -> 0
J8: 事業所区分 | N8: ='(2)実績報告書'!C6 -> 0
J10: 事業種別 | N10: ='(1)基本シート'!M15 -> 0
B13: ① | C13: 支援金は事業運営の経費負担軽減に役立ちましたか。
C14: 5 大変役に立った、4 役に立った、3 どちらでもない、2 あまり役に立たなかった、1 まったく役に立たなかった
B16: ② | C16: 支援金の申請手続きの手間はいかがでしたか。
C17: 5 大変申請しやすかった、4 申請しやすかった、3 どちらでもない、2 申請しにくかった、1 大変申請しにくかった
B19: ③ | C19: 支援基準額は適当でしたか。
C20: 5 非常に適当であった、4 適当であった、3 どちらでもない、2 あまり適当でなかった、1 まったく適当でなかった
J21: 支援基準額
J22: 光熱費支援金 | O22: 車両燃料費支援金
C23: 入所系事業所 | J23: 2300
C24: 通所系事業所（入浴介助あり） | J24: 1100 | O24: 2,401cc以上 ￥17,000 661cc～2,400cc ￥10,000 660cc以下 ￥7,000
C25: 通所系事業所（入浴介助なし） | J25: 500
C26: 訪問・相談系事業所
B28: ④ | C28: 他に、どのようなことに支援が必要ですか。
B33: ⑤ | C33: その他、ご要望、ご意見等ございましたらご自由にご記入ください。
C39: お忙しいところアンケートにご協力いただき、ありがとうございました。

Sheet (1)基本シート
A1: 丹波市福祉事業所物価高騰対策支援金 交付申請書兼請求書及び実績報告書作成用 基本情報入力シート
B2: 【注意】本シートは様式作成用のため、提出は不要です。
B3: ●次の情報を本シートの黄色セルに入力することで、各様式に自動的に転記されます。
B4: １ 基本情報
B5: ⇒下表に必要事項を入力してください。記入内容が別紙様式に反映されます。
B6: 申請（提出）日 | AR6: =IF(COUNTA(M6)=1,"〇","×") -> ×
B7: 申請者情報 | C7: 法人名 | AR7: =IF(COUNTA(M7)=1,"〇","×") -> ×
C8: 〒 | P8: － | AR8: =IF(COUNTA(M8:T8)=8,"〇","×") -> ×
C9: 住所（番地・住居番号まで） | AR9: =IF(COUNTA(M9:T9)=1,"〇","×") -> ×
C10: 事業所名 | AR10: =IF(COUNTA(M10)=1,"〇","×") -> ×
C11: 〒 | P11: － | AR11: =IF(COUNTA(M11:T11)=8,"〇","×") -> ×
C12: 住所（番地・住居番号まで） | AR12: =IF(COUNTA(M12:T12)=1,"〇","×") -> ×
C13: 事業所番号 | AR13: =IF(COUNTA(M13:T13)=1,"〇","×") -> × | AW13: 入所系事業所 | AX13: 通所系事業所 | AY13: 訪問系事業所 | AZ13: 相談系事業所
C14: 事業所区分 | AR14: =IF(COUNTA(M14:T14)=1,"〇","×") -> × | AW14: 介護老人福祉施設 | AX14: 通所介護（現行相当あり） | AY14: 訪問介護（介護予防サービスあり・現行相当あり） | AZ14: 居宅介護支援
C15: 事業種別 | AR15: =IF(COUNTA(M15:T15)=1,"〇","×") -> × | AW15: 短期入所生活介護（介護予防サービスあり） | AX15: 通所介護（現行相当なし） | AY15: 訪問介護（介護予防サービスあり・現行相当なし） | AZ15: 介護予防支援
C16: 定員 | AR16: =IF(COUNTA(M16:T16)=1,"〇","×") -> × | AW16: 短期入所生活介護（介護予防サービスなし） | AX16: 地域密着型通所介護（現行相当あり） | AY16: 訪問介護（介護予防サービスなし・現行相当あり） | AZ16: 介護用品給付事業
C17: 代表者の職・氏名 | AR17: =IF(COUNTA(M17:T17)=1,"〇","×") -> × | AW17: 地域密着型介護老人福祉施設 | AX17: 地域密着型通所介護（現行相当なし） | AY17: 訪問介護（介護予防サービスなし・現行相当なし） | AZ17: 計画相談支援
C18: 電話番号 | AR18: =IF(COUNTA(M18:T18)=1,"〇","×") -> × | AW18: 介護老人保健施設 | AX18: 認知症対応型通所介護（介護予防サービスあり） | AY18: 定期巡回・随時対応型訪問介護看護 | AZ18: 地域移行支援
C19: メールアドレス | AR19: =IF(COUNTA(M19:T19)=1,"〇","×") -> × | AW19: 短期入所療養介護（介護予防サービスあり） | AX19: 認知症対応型通所介護（介護予防サービスなし） | AY19: 訪問入浴介護（介護予防サービスあり） | AZ19: 地域定着支援
B20: 管理者名 | C20: 職 | AR20: =IF(COUNTA(M20:T20)=1,"〇","×") -> × | AW20: 短期入所療養介護（介護予防サービスなし） | AX20: 通所リハビリテーション（介護予防サービスあり） | AY20: 訪問入浴介護（介護予防サービスなし）
C21: 氏名 | AR21: =IF(COUNTA(M21:T21)=1,"〇","×") -> × | AW21: 認知症対応型共同生活介護（介護予防サービスあり） | AX21: 通所リハビリテーション（介護予防サービスなし） | AY21: 訪問看護（介護予防サービスあり）
C22: 電話番号 | AR22: =IF(COUNTA(M22:T22)=1,"〇","×") -> × | AW22: 認知症対応型共同生活介護（介護予防サービスなし） | AX22: 小規模多機能型居宅介護（介護予防サービスあり） | AY22: 訪問看護（介護予防サービスなし）
C23: メールアドレス | AR23: =IF(COUNTA(M23:T23)=1,"〇","×") -> × | AW23: 養護老人ホーム | AX23: 小規模多機能型居宅介護（介護予防サービスなし） | AY23: 訪問リハビリテーション（介護予防サービスあり）
B24: 書類発行 責任者 | C24: 氏名 | AW24: 軽費老人ホーム | AX24: 介護予防・日常生活支援総合事業第１号通所事業（国基準通所型サービス） | AY24: 訪問リハビリテーション（介護予防サービスなし）
A25: FALSE | C25: (上記管理者と同じ場合) | AR25: =IF(A25=TRUE,"〇",IF(COUNTA(M24)=1,"〇","×")) -> × | AW25: 短期入所 | AX25: 生活介護 | AY25: 介護予防・日常生活支援総合事業第１号訪問事業（国基準訪問型サービス）
C26: 電話番号 | AW26: 施設入所施設 | AX26: 就労移行支援 | AY26: 配食サービス事業
A27: FALSE | C27: (上記電話番号と同じ場合) | AR27: =IF(A27=TRUE,"〇",IF(COUNTA(M26)=1,"〇","×")) -> × | AW27: 共同生活援助 | AX27: 就労継続支援（A型・B型） | AY27: 居宅介護
C28: メールアドレス | AW28: 福祉型障害児入所施設 | AX28: 就労選択支援 | AY28: 同行援護
A29: FALSE | C29: (上記アドレスと同じ場合) | AR29: =IF(A29=TRUE,"〇",IF(COUNTA(M28)=1,"〇","×")) -> × | AW29: 児童養護施設 | AX29: 児童発達支援 | AY29: 重度訪問介護
B30: 書類作成 担当者 | C30: 氏名 | AX30: 放課後等デイサービス | AY30: 就労定着支援
A31: FALSE | C31: (上記管理者と同じ場合) | AR31: =IF(A31=TRUE,"〇",IF(COUNTA(M30)=1,"〇","×")) -> × | AY31: 自立生活援助
C32: 電話番号
A33: FALSE | C33: (上記電話番号と同じ場合) | AR33: =IF(A33=TRUE,"〇",IF(COUNTA(M32)=1,"〇","×")) -> ×
C34: メールアドレス
A35: FALSE | C35: 上記アドレスと同じ場合 | AR35: =IF(A35=TRUE,"〇",IF(COUNTA(M34)=1,"〇","×")) -> ×
B36: 振込口座情報 | C36: 金融機関コード | U36: ― | AR36: =IF(COUNTA(M36:AB36)=8,"〇","×") -> ×
C37: 金融機関名 | AR37: =IF(COUNTA(M37)=1,"〇","×") -> ×
C38: 店名 | AR38: =IF(COUNTA(M38)=1,"〇","×") -> ×
C39: 預金種類 | O39: １．普通 ２．当座 （数字を記入してください。） | AR39: =IF(COUNTA(M39)=1,"〇","×") -> ×
C40: 口座番号 | AR40: =IF(COUNTA(M40:Z40)=7,"〇","×") -> ×
C41: 口座名義カナ | AR41: =IF(COUNTA(M41:AP41)=1,"〇","×") -> ×
D42: ※口座名義（カナ）：通帳の見開き等に記載されているカタカナの名義をスペースを含め正確に記載してください。
D43: （通帳の表面にある漢字の名義ではありませんので、十分注意してください。）
B45: 【確認事項及び同意事項】（いずれもチェックすることにより、交付申請額が正しく表示されます。）
A46: FALSE | C46: 光熱費の支払額、実績等の内容に相違なく、申請に用いた支出等に係る証拠書類及び実績人数の根拠資料を令和８年度末まで適切に整備保管します。
A47: FALSE | C47: 支援金申請について他の物価高騰対策補助等事業(県の補助事業である「令和８年介護事業所等及び介護施設等に対するサービス継続支援事業」)と重複した申請はしていません。
A48: FALSE | C48: 支援金の重複を防ぐため、他の物価高騰対策支援事業に対して、申請内容等の情報を提供されることに同意します。
A49: FALSE | C49: 支援金事務を適正に執行するために事業所へ訪問し書類等の確認を受けることに同意します。
B50: （車両燃料費を含む場合）
A51: FALSE | C51: 申請する車両は、専ら利用者の輸送・送迎・介護職員等による利用者の居宅への訪問等に使用するものです。

Sheet (2)実績報告書
A1: 丹波市福祉事業所物価高騰対策支援金実績報告書
A3: （１）事業所名 | C3: ='(1)基本シート'!M10 -> 0
A4: 法人名 | C4: ='(1)基本シート'!M7 -> 0
A6: （２）事業所区分 | F6: ←プルダウンリストから該当する事業所区分を選択
A8: （３）実績人数について | D8: ※入力の有無 | F8: =IF(OR(C6="入所系事業所",C6="通所系事業所（入浴介助あり）",C6="通所系事業所（入浴介助なし）"),"必要","不要") -> 不要 | N8: 定員 | O8: ='(1)基本シート'!M16 -> 0 | P8: 人
A9: 対象月 | B9: R8.4 | C9: R8.5 | D9: R8.6 | E9: R8.7 | F9: R8.8 | G9: R8.9 | N9: 計 | P9: 光熱費支援金額
A10: 延利用人数
A11: 運営日数
A12: 実績人数 | B12: =IFERROR(ROUNDDOWN(B10/B11,1),0) -> 0 | C12: =IFERROR(ROUNDDOWN(C10/C11,1),0) -> 0 | D12: =IFERROR(ROUNDDOWN(D10/D11,1),0) -> 0 | E12: =IFERROR(ROUNDDOWN(E10/E11,1),0) -> 0 | F12: =IFERROR(ROUNDDOWN(F10/F11,1),0) -> 0 | G12: =IFERROR(ROUNDDOWN(G10/G11,1),0) -> 0 | H12: =IFERROR(ROUNDDOWN(H10/H11,1),0) -> 0 | I12: =IFERROR(ROUNDDOWN(I10/I11,1),0) -> 0 | ... M12: =IFERROR(ROUNDDOWN(M10/M11,1),0) -> 0 | N12: =SUM(B12:M12) -> 0 | P12: =N12*C45 -> 0
A13: 定員チェック | B13: =IF(B12>$O$8,"×","") | C13: =IF(C12>$O$8,"×","") | D13: =IF(D12>$O$8,"×","") | E13: =IF(E12>$O$8,"×","") | F13: =IF(F12>$O$8,"×","") | G13: =IF(G12>$O$8,"×","") | H13: =IF(H12>$O$8,"×","") | I13: =IF(I12>$O$8,"×","") | ... M13: =IF(M12>$O$8,"×","") | O13: 支援上限に関する協議 | Q13: =IF(P12>0.2*N19,"要協議","協議不要") -> 協議不要
A14: 注）事業所ごとに、1月の延べ利用人数をサービス提供日数で除した数を1月の実績人数とし、小数点第2位以下を切り捨てた値とする。
A15: 注）同一の居室において、1日の内に時間を変えて複数回の事業の実施、又は異なる事業を実施する場合は、いずれかの事業についてのみ実績人数とする。
A17: （４）光熱費の支払額について | D17: ※入力の有無 | F17: =IF(OR(C6="入所系事業所",C6="通所系事業所（入浴介助あり）",C6="通所系事業所（入浴介助なし）"),"必要","不要") -> 不要
A18: 対象月 | B18: R8.4 | C18: R8.5 | D18: R8.6 | E18: R8.7 | F18: R8.8 | G18: R8.9 | N18: 支払額合計
A19: 支払額 | N19: =SUM(B19:M19) -> 0
A20: 注）光熱費：ガソリン、軽油、灯油、重油、液化石油ガス及び電気の購入又は利用代金をいう。
A21: 注）根拠資料の確認を行う場合があります。各事業所で根拠資料の保管（令和８年度末まで）をお願いします。
A24: （５）車両保有台数（送迎・訪問用）について | G24: ※入力の有無 | I24: =IF(OR(C6="通所系事業所（入浴介助あり）",C6="通所系事業所（入浴介助なし）",C6="訪問系事業所",C6="相談系事業所"),"必要","不要") -> 不要 | L24: 基準日 | M24: 46296
B26: 大型ワゴン車（2,401cc以上） | F26: 台
B27: 普通車（661cc～2,400cc） | F27: 台
B28: 軽自動車（660cc以下） | F28: 台 | G28: 車両支援金額 | I28: =SUM(E26*G46,E27*G47,E28*G48) -> 0
B29: 注）申請時に各車両の車検証（写）を添付してください。
B30: 注）電子車検証の場合は、一緒に発行されている「自動車検査証記録事項」や「自動車損害賠償責任保険証明書」の添付をお願いします。
B31: 注）車両を1台も所有しない法人は、車両燃料費を負担する事業の用に専ら使用する法人名義以外の車両がある場合には、1台に限り申請することができます。
A34: （６） | B34: 支援金額総計 | D34: =ROUNDDOWN((P12+I28),-3) -> 0 | F34: ※千円未満切り捨て
A38: 事業所区分
A39: 入所系事業所
A40: 通所系事業所（入浴介助あり）
A41: 通所系事業所（入浴介助なし）
A42: 訪問系事業所
A43: 相談系事業所
A45: 支援基準額（光熱費） | C45: =IFERROR(VLOOKUP(C6,A46:B48,2,FALSE),"0") -> 0 | E45: 支援基準額（車輛燃料費）
A46: 入所系事業所 | B46: 2300 | E46: 大型ワゴン車 | G46: =IFERROR(VLOOKUP(C6,A49:C52,3,FALSE),"0") -> 0
A47: 通所系事業所（入浴介助あり） | B47: 1100 | E47: 普通車 | G47: =IFERROR(VLOOKUP(C6,A53:C56,3,FALSE),"0") -> 0
A48: 通所系事業所（入浴介助なし） | B48: 500 | E48: 軽自動車 | G48: =IFERROR(VLOOKUP(C6,A57:C61,3,FALSE),"0") -> 0
A49: 通所系事業所（入浴介助あり） | B49: 大型ワゴン車 | C49: 17000
A50: 通所系事業所（入浴介助なし） | B50: 大型ワゴン車 | C50: 17000
A51: 訪問系事業所 | B51: 大型ワゴン車 | C51: 17000
A52: 相談系事業所 | B52: 大型ワゴン車 | C52: 17000
A53: 通所系事業所（入浴介助あり） | B53: 普通車 | C53: 10000
A54: 通所系事業所（入浴介助なし） | B54: 普通車 | C54: 10000
A55: 訪問系事業所 | B55: 普通車 | C55: 10000
A56: 相談系事業所 | B56: 普通車 | C56: 10000
A57: 通所系事業所（入浴介助あり） | B57: 軽自動車 | C57: 7000
A58: 通所系事業所（入浴介助なし） | B58: 軽自動車 | C58: 7000
A59: 訪問系事業所 | B59: 軽自動車 | C59: 7000
A60: 相談系事業所 | B60: 軽自動車 | C60: 7000

Sheet (2)実績報告書②【訪問・相談系事業所は入力が必要な場合が有】
C1: 丹波市福祉事業所物価高騰対策支援金実績報告書 【訪問系事業所・相談系事業所】
C2: ※ このシートで申請できる訪問系事業所及び相談系事業所の車両においては、支援対象者である運営事業所と雇用契約を締結している事業所名、代表者、役員以外の従業員等が使用する車両で、かつ、対象期間に訪問実績のある場合には、車両燃料費支援金の申請ができます。（代表者、役員が使用する車両は（２）実績報告書シートに入力してください。） 下記に該当車両について入力いただき、各職員の雇用契約書（写）、各車両の車検証（写）と一緒にご申請ください。 （注意）車両情報の記載があっても、職員の雇用契約書（写）、各車両の車検証（写）の添付がない場合は対象となりません。
C3: 【確認事項及び同意事項】（チェックがあることにより、下記入力欄が表示されます。）
A4: FALSE | B4: FALSE | D4: 申請する車両は、専ら利用者の輸送・送迎・介護職員等による利用者の居宅への訪問等に使用するものです。
B6: （１）事業所名 | E6: ='(1)基本シート'!M10 -> 0
B7: 法人名 | E7: ='(1)基本シート'!M7 -> 0
B9: （２）事業所区分 | E9: ='(2)実績報告書'!C6 -> 0
G10: ※入力の有無 | I10: =IF(OR(E9="訪問系事業所",E9="相談系事業所"),"必要","不要") -> 不要
B11: （３）実績訪問件数について | K11: 定員 | L11: ='(1)基本シート'!M16 -> 0 | M11: 人
A12: 車両、実積の有無 | B12: No | C12: 職員名 | D12: 車両名義人 | E12: 職員との関係 | F12: 車両番号 | G12: 車両区分 | H12: R8.4 | I12: R8.5 | J12: R8.6 | K12: R8.7 | L12: R8.8 | M12: R8.9 | T12: 訪問件数合計
A13: =IF(AND(C13<>"",D13<>"",E13<>"",F13<>"",G13<>"",T13>0),"有","") -> 有 | B13: 例 | C13: 丹波 花子 | D13: 丹波 太郎 | E13: 配偶者 | F13: 神戸000あ0000 | G13: 普通車 | H13: 12 | I13: 11 | J13: 4 | K13: 0 | L13: 9 | M13: 12 | T13: =SUM(H13:S13) -> 48
A14: =IF(AND(C14<>"",D14<>"",E14<>"",F14<>"",G14<>"",T14>0),"有","") | B14: 1 | T14: =SUM(H14:S14) -> 0 | U14: =COUNTIFS(H14:S14,"<>",H14:S14,">0") -> 0 | V14: =ROUNDDOWN(IF(G14="大型ワゴン車",17000/6*U14,IF(G14="普通車",10000/6*U14,IF(G14="軽自動車",7000/6*U14,0))),0) -> 0
A15: =IF(AND(C15<>"",D15<>"",E15<>"",F15<>"",G15<>"",T15>0),"有","") | B15: 2 | T15: =SUM(H15:S15) -> 0 | U15: =COUNTIFS(H15:S15,"<>",H15:S15,">0") -> 0 | V15: =ROUNDDOWN(IF(G15="大型ワゴン車",17000/6*U15,IF(G15="普通車",10000/6*U15,IF(G15="軽自動車",7000/6*U15,0))),0) -> 0
A16: =IF(AND(C16<>"",D16<>"",E16<>"",F16<>"",G16<>"",T16>0),"有","") | B16: 3 | T16: =SUM(H16:S16) -> 0 | U16: =COUNTIFS(H16:S16,"<>",H16:S16,">0") -> 0 | V16: =ROUNDDOWN(IF(G16="大型ワゴン車",17000/6*U16,IF(G16="普通車",10000/6*U16,IF(G16="軽自動車",7000/6*U16,0))),0) -> 0
A17: =IF(AND(C17<>"",D17<>"",E17<>"",F17<>"",G17<>"",T17>0),"有","") | B17: 4 | T17: =SUM(H17:S17) -> 0 | U17: =COUNTIFS(H17:S17,"<>",H17:S17,">0") -> 0 | V17: =ROUNDDOWN(IF(G17="大型ワゴン車",17000/6*U17,IF(G17="普通車",10000/6*U17,IF(G17="軽自動車",7000/6*U17,0))),0) -> 0
A18: =IF(AND(C18<>"",D18<>"",E18<>"",F18<>"",G18<>"",T18>0),"有","") | B18: 5 | T18: =SUM(H18:S18) -> 0 | U18: =COUNTIFS(H18:S18,"<>",H18:S18,">0") -> 0 | V18: =ROUNDDOWN(IF(G18="大型ワゴン車",17000/6*U18,IF(G18="普通車",10000/6*U18,IF(G18="軽自動車",7000/6*U18,0))),0) -> 0
A19: =IF(AND(C19<>"",D19<>"",E19<>"",F19<>"",G19<>"",T19>0),"有","") | B19: 6 | T19: =SUM(H19:S19) -> 0 | U19: =COUNTIFS(H19:S19,"<>",H19:S19,">0") -> 0 | V19: =ROUNDDOWN(IF(G19="大型ワゴン車",17000/6*U19,IF(G19="普通車",10000/6*U19,IF(G19="軽自動車",7000/6*U19,0))),0) -> 0
A20: =IF(AND(C20<>"",D20<>"",E20<>"",F20<>"",G20<>"",T20>0),"有","") | B20: 7 | T20: =SUM(H20:S20) -> 0 | U20: =COUNTIFS(H20:S20,"<>",H20:S20,">0") -> 0 | V20: =ROUNDDOWN(IF(G20="大型ワゴン車",17000/6*U20,IF(G20="普通車",10000/6*U20,IF(G20="軽自動車",7000/6*U20,0))),0) -> 0
A21: =IF(AND(C21<>"",D21<>"",E21<>"",F21<>"",G21<>"",T21>0),"有","") | B21: 8 | T21: =SUM(H21:S21) -> 0 | U21: =COUNTIFS(H21:S21,"<>",H21:S21,">0") -> 0 | V21: =ROUNDDOWN(IF(G21="大型ワゴン車",17000/6*U21,IF(G21="普通車",10000/6*U21,IF(G21="軽自動車",7000/6*U21,0))),0) -> 0
A22: =IF(AND(C22<>"",D22<>"",E22<>"",F22<>"",G22<>"",T22>0),"有","") | B22: 9 | T22: =SUM(H22:S22) -> 0 | U22: =COUNTIFS(H22:S22,"<>",H22:S22,">0") -> 0 | V22: =ROUNDDOWN(IF(G22="大型ワゴン車",17000/6*U22,IF(G22="普通車",10000/6*U22,IF(G22="軽自動車",7000/6*U22,0))),0) -> 0
A23: =IF(AND(C23<>"",D23<>"",E23<>"",F23<>"",G23<>"",T23>0),"有","") | B23: 10 | T23: =SUM(H23:S23) -> 0 | U23: =COUNTIFS(H23:S23,"<>",H23:S23,">0") -> 0 | V23: =ROUNDDOWN(IF(G23="大型ワゴン車",17000/6*U23,IF(G23="普通車",10000/6*U23,IF(G23="軽自動車",7000/6*U23,0))),0) -> 0
A24: =IF(AND(C24<>"",D24<>"",E24<>"",F24<>"",G24<>"",T24>0),"有","") | B24: 11 | T24: =SUM(H24:S24) -> 0 | U24: =COUNTIFS(H24:S24,"<>",H24:S24,">0") -> 0 | V24: =ROUNDDOWN(IF(G24="大型ワゴン車",17000/6*U24,IF(G24="普通車",10000/6*U24,IF(G24="軽自動車",7000/6*U24,0))),0) -> 0
A25: =IF(AND(C25<>"",D25<>"",E25<>"",F25<>"",G25<>"",T25>0),"有","") | B25: 12 | T25: =SUM(H25:S25) -> 0 | U25: =COUNTIFS(H25:S25,"<>",H25:S25,">0") -> 0 | V25: =ROUNDDOWN(IF(G25="大型ワゴン車",17000/6*U25,IF(G25="普通車",10000/6*U25,IF(G25="軽自動車",7000/6*U25,0))),0) -> 0
... A73: =IF(AND(C73<>"",D73<>"",E73<>"",F73<>"",G73<>"",T73>0),"有","") | B73: 60 | T73: =SUM(H73:S73) -> 0 | U73: =COUNTIFS(H73:S73,"<>",H73:S73,">0") -> 0 | V73: =ROUNDDOWN(IF(G73="大型ワゴン車",17000/6*U73,IF(G73="普通車",10000/6*U73,IF(G73="軽自動車",7000/6*U73,0))),0) -> 0
B74: 計 | C74: =COUNTA(C14:C73) -> 0 | D74: =COUNTA(D14:D73) -> 0 | V74: =SUM(V14:V73) -> 0
C75: 注）申請時に各職員の雇用契約書（写）、各車両の車検証（写）を添付してください。
C76: 注）電子車検証の場合は、一緒に発行されている「自動車検査証記録事項」や「自動車損害賠償責任保険証明書」の添付をお願いします。
C77: 注）根拠資料の確認を行う場合があります。各事業所で根拠資料の保管（令和８年度末まで）をお願いします。
C79: 注）（２）実績報告書のシートで入力した車両について、重複申請は不可であるためこのシートには入力しないでください。
D81: 大型ワゴン車（2,401cc以上） | F81: =COUNTIF($G$14:$G$73,"大型ワゴン車") -> 0 | G81: 台 | H81: 基準日 | J81: 46296
D82: 普通車（661cc～2,400cc） | F82: =COUNTIF($G$14:$G$73,"普通車") -> 0 | G82: 台
D83: 軽自動車（660cc以下） | F83: =COUNTIF($G$14:$G$73,"軽自動車") -> 0 | G83: 台 | H83: 車両支援金額 | J83: =V74 -> 0
B85: （４） | D85: 支援金額総計（②） | F85: =ROUNDDOWN(J83,-3) -> 0 | H85: ※千円未満切り捨て
C90: 通所系事業所（入浴介助あり） | D90: 大型ワゴン車 | E90: 30000 | H90: 支援基準額（車輛燃料費）
C91: 通所系事業所（入浴介助なし） | D91: 大型ワゴン車 | E91: 30000 | H91: 大型ワゴン車 | J91: =IFERROR(VLOOKUP(E9,C92:E93,3,FALSE),"0") -> 0
C92: 訪問系事業所 | D92: 大型ワゴン車 | E92: 30000 | H92: 普通車 | J92: =IFERROR(VLOOKUP(E9,C96:E97,3,FALSE),"0") -> 0
C93: 相談系事業所 | D93: 大型ワゴン車 | E93: 30000 | H93: 軽自動車 | J93: =IFERROR(VLOOKUP(E9,C100:E101,3,FALSE),"0") -> 0
C94: 通所系事業所（入浴介助あり） | D94: 普通車 | E94: 18000
C95: 通所系事業所（入浴介助なし） | D95: 普通車 | E95: 18000
C96: 訪問系事業所 | D96: 普通車 | E96: 18000
C97: 相談系事業所 | D97: 普通車 | E97: 18000
C98: 通所系事業所（入浴介助あり） | D98: 軽自動車 | E98: 12000
C99: 通所系事業所（入浴介助なし） | D99: 軽自動車 | E99: 12000
C100: 訪問系事業所 | D100: 軽自動車 | E100: 12000
C101: 相談系事業所 | D101: 軽自動車 | E101: 12000

Sheet (3)申請書兼請求書
A2: 丹波市福祉事業所物価高騰対策支援金交付申請書兼請求書
AL5: 年
AE6: ='(1)基本シート'!M6 -> 0 | AF6: ='(1)基本シート'!S6 -> 0 | AG6: ='(1)基本シート'!T6 -> 0 | AH6: ='(1)基本シート'!U6 -> 0 | AI6: ='(1)基本シート'!V6 -> 0 | AJ6: ='(1)基本シート'!W6 -> 0 | AK6: =IF(COUNTA(AE6)=1,"〇","×") -> 〇 | AL6: 月
A8: 丹波市長 林 時彦 様 | AL8: 日
N11: 申請者名 | S11: ='(1)基本シート'!M7 -> 0 | AK11: =IF(COUNTA(S11)=1,"〇","×") -> 〇
N13: 申請者住所 | S13: ='(1)基本シート'!M9 -> 0 | AK13: =IF(COUNTA(S13)=1,"〇","×") -> 〇 | AL13: 申請者 | AN13: 様式第1
N15: 代表者の職・氏名 | W15: ='(1)基本シート'!M17 -> 0 | AK15: =IF(COUNTA(W15)=1,"〇","×") -> 〇 | AL15: 担当氏名
N17: 電話番号 | W17: ='(1)基本シート'!M22 -> 0 | AK17: =IF(COUNTA(W17)=1,"〇","×") -> 〇 | AL17: 電話番号
N19: メールアドレス | W19: ='(1)基本シート'!M23 -> 0 | AK19: =IF(COUNTA(W19)=1,"〇","×") -> 〇 | AL19: メルアド
N21: 事業所番号 | S21: ='(1)基本シート'!M13 -> 0 | AK21: =IF(COUNTA(S21)=1,"〇","×") -> 〇 | AL21: 代表職名
AL22: 氏名
N23: 事業所名 | S23: ='(1)基本シート'!M10 -> 0 | AK23: =IF(COUNTA(S23)=1,"〇","×") -> 〇 | AL23: 所在地
N25: 事業所住所 | S25: ='(1)基本シート'!M12 -> 0 | AK25: =IF(COUNTA(S25)=1,"〇","×") -> 〇 | AL25: 申請者 | AN25: 様式第1
N27: 事業所区分 | W27: ='(2)実績報告書'!C6 -> 0 | AK27: =IF(COUNTA(W27)=1,"〇","×") -> 〇 | AL27: 担当氏名
N29: 事業種別 | W29: ='(1)基本シート'!M15 -> 0 | AK29: =IF(COUNTA(W29)=1,"〇","×") -> 〇 | AL29: 担当氏名
N31: 管理者氏名 | W31: ='(1)基本シート'!M21 -> 0 | AK31: =IF(COUNTA(W31)=1,"〇","×") -> 〇 | AL31: 担当氏名
A34: 丹波市福祉事業所物価高騰対策支援金について、下記のとおり支援金を交付願いたく、丹波市福祉事業所物価高騰対策支援金交付要綱第５条の規定により関係書類を添えて申請及び請求します。
A36: 1 | B36: 申請（請求）額 | J36: ='(2)実績報告書'!D34+'(2)実績報告書②【訪問・相談系事業所は入力が必要な場合が有】'!F85 -> 0 | R36: 円 | AL36: 車両台数は０ではないか。
A38: 2 | B38: 振込先の口座 | AL38: 車両台数は０ではないか。
A39: 振込先情報 | B39: 金融機関コード | G39: ='(1)基本シート'!M36 -> 0 | H39: ='(1)基本シート'!O36 -> 0 | I39: ='(1)基本シート'!Q36 -> 0 | J39: ='(1)基本シート'!S36 -> 0 | AK39: =IF(COUNTA(G39:J39)=4,"〇","×") -> 〇 | AL39: 金融機関コード
B40: 支店番号 | G40: ='(1)基本シート'!W36 -> 0 | H40: ='(1)基本シート'!Y36 -> 0 | I40: ='(1)基本シート'!AA36 -> 0 | AK40: =IF(COUNTA(G40:I40)=3,"〇","×") -> 〇 | AL40: 支店番号
B41: 金融機関名 | G41: ='(1)基本シート'!M37 -> 0 | AK41: =IF(COUNTA(G41)=1,"〇","×") -> 〇 | AL41: 金融機関名
B42: 店 名 | G42: ='(1)基本シート'!M38 -> 0 | AK42: =IF(COUNTA(G42)=1,"〇","×") -> 〇 | AL42: 店名
B43: 預金種類 | G43: ='(1)基本シート'!M39 -> 0 | I43: １．普通 ２．当座 （数字を記入してください。） | AK43: =IF(COUNTA(G43)=1,"〇","×") -> 〇 | AL43: 預金種類
B44: 口座番号 | G44: ='(1)基本シート'!M40 -> 0 | H44: ='(1)基本シート'!O40 -> 0 | I44: ='(1)基本シート'!Q40 -> 0 | J44: ='(1)基本シート'!S40 -> 0 | K44: ='(1)基本シート'!U40 -> 0 | L44: ='(1)基本シート'!W40 -> 0 | M44: ='(1)基本シート'!Y40 -> 0 | AK44: =IF(COUNTA(G44:M44)=7,"〇","×") -> 〇 | AL44: 口座番号
B45: 口座名義（ｶﾅ） | G45: ='(1)基本シート'!M41 -> 0 | AK45: =IF(COUNTA(G45:AJ45)>=1,"〇","×") -> 〇 | AL45: （フリガナ）
A47: 3 | B47: 申請書兼請求書発行責任者 | R47: 4 | S47: 担当者氏名
A48: 発行責任者 | G48: =IF('(1)基本シート'!A25=TRUE,'(1)基本シート'!M21,'(1)基本シート'!M24) -> 0 | R48: 担当者氏名 | X48: =IF('(1)基本シート'!A31=TRUE,'(1)基本シート'!M21,'(1)基本シート'!M30) -> 0
A49: 電話番号 | G49: =IF('(1)基本シート'!A27=TRUE,'(1)基本シート'!M22,'(1)基本シート'!M26) -> 0 | R49: 電話番号 | X49: =IF('(1)基本シート'!A33=TRUE,'(1)基本シート'!M22,'(1)基本シート'!M32) -> 0 | AL49: TRUE
A50: メールアドレス | G50: =IF('(1)基本シート'!A29=TRUE,'(1)基本シート'!M23,'(1)基本シート'!M28) -> 0 | R50: メールアドレス | X50: =IF('(1)基本シート'!A35=TRUE,'(1)基本シート'!M23,'(1)基本シート'!M34) -> 0
B54: 【確認事項及び同意事項】（いずれにもチェックがあることにより、交付申請額が正しく表示されます。）
C55: ='(1)基本シート'!C46 -> 光熱費の支払額、実績等の内容に相違なく、申請に用いた支出等に係る証拠書類及び実績人数の根拠資料を令和８年度末まで適切に整備保管します。
C56: ='(1)基本シート'!C47 -> 支援金申請について他の物価高騰対策補助等事業(県の補助事業である「令和８年介護事業所等及び介護施設等に対するサービス継続支援事業」)と重複した申請はしていません。
C57: ='(1)基本シート'!C48 -> 支援金の重複を防ぐため、他の物価高騰対策支援事業に対して、申請内容等の情報を提供されることに同意します。
C58: ='(1)基本シート'!C49 -> 支援金事務を適正に執行するために事業所へ訪問し書類等の確認を受けることに同意します。
B59: （車両燃料費を含む場合）
C60: ='(1)基本シート'!C51 -> 申請する車両は、専ら利用者の輸送・送迎・介護職員等による利用者の居宅への訪問等に使用するものです。

Sheet 定員超過理由書
A1: 丹波市福祉事業所物価高騰対策支援金 定員超過理由書
T3: 提出日 | X3: ='(1)基本シート'!M6 -> 0
J5: 事業所名 | N5: ='(1)基本シート'!M10 -> 0
J7: 事業所区分 | N7: ='(2)実績報告書'!C6 -> 0
J9: 事業種別 | N9: ='(1)基本シート'!M15 -> 0
B11: =IF('(2)実績報告書'!B13="×","〇","") | C11: 令和８年４月定員超過理由
B15: =IF('(2)実績報告書'!C13="×","〇","") | C15: 令和８年５月定員超過理由
B19: =IF('(2)実績報告書'!D13="×","〇","") | C19: 令和８年６月定員超過理由
B23: =IF('(2)実績報告書'!E13="×","〇","") | C23: 令和８年７月定員超過理由
B27: =IF('(2)実績報告書'!F13="×","〇","") | C27: 令和８年８月定員超過理由
B31: =IF('(2)実績報告書'!G13="×","〇","") | C31: 令和８年９月定員超過理由
B35: =IF('(2)実績報告書'!H13="×","〇","")
B39: =IF('(2)実績報告書'!I13="×","〇","")
B43: =IF('(2)実績報告書'!J13="×","〇","")
B47: =IF('(2)実績報告書'!K13="×","〇","")
B51: =IF('(2)実績報告書'!L13="×","〇","")
B55: =IF('(2)実績報告書'!M17="×","〇","")
B58: =IF('(2)実績報告書'!N13="×","〇","")

Sheet 基本シート (記入例)
A1: 令和８年度丹波市福祉事業所物価高騰対策支援金 交付申請書兼請求書及び実績報告書作成用 基本情報入力シート
B2: 【注意】本シートは様式作成用のため、提出は不要です。
B3: ●次の情報を本シートの黄色セルに入力することで、各様式に自動的に転記されます。
B4: １ 基本情報
B5: ⇒下表に必要事項を入力してください。記入内容が別紙様式に反映されます。
B6: 申請（提出）日 | M6: 46317 | AR6: =IF(COUNTA(M6)=1,"〇","×") -> 〇
B7: 申請者情報 | C7: 法人名 | M7: 社会福祉法人〇〇福祉会 | AR7: =IF(COUNTA(M7)=1,"〇","×") -> 〇
C8: 〒 | M8: 6 | N8: 6 | O8: 9 | P8: － | Q8: 3 | R8: 3 | S8: 0 | T8: 9 | AR8: =IF(COUNTA(M8:T8)=8,"〇","×") -> 〇
C9: 住所（番地・住居番号まで） | M9: 丹波市柏原町柏原〇〇〇〇番地 | AR9: =IF(COUNTA(M9:T9)=1,"〇","×") -> 〇
C10: 事業所名 | M10: 〇〇福祉会デイサービスセンター | AR10: =IF(COUNTA(M10)=1,"〇","×") -> 〇
C11: 〒 | M11: 6 | N11: 6 | O11: 9 | P11: － | Q11: 3 | R11: 6 | S11: 0 | T11: 2 | AR11: =IF(COUNTA(M11:T11)=8,"〇","×") -> 〇
C12: 住所（番地・住居番号まで） | M12: 丹波市氷上町常楽〇〇〇番地 | AR12: =IF(COUNTA(M12:T12)=1,"〇","×") -> 〇
C13: 事業所番号 | M13: 〇〇〇〇〇〇〇〇〇〇〇 | AR13: =IF(COUNTA(M13:T13)=1,"〇","×") -> 〇 | AW13: 入所系事業所 | AX13: 通所系事業所 | AY13: 訪問系事業所 | AZ13: 相談系事業所
C14: 事業所区分 | M14: 通所系事業所 | AR14: =IF(COUNTA(M14:T14)=1,"〇","×") -> 〇 | AW14: 介護老人福祉施設 | AX14: 通所介護（現行相当あり） | AY14: 訪問介護（介護予防サービスあり・現行相当あり） | AZ14: 居宅介護支援
C15: 事業種別 | M15: 通所介護（現行相当あり） | AR15: =IF(COUNTA(M15:T15)=1,"〇","×") -> 〇 | AW15: 短期入所生活介護（介護予防サービスあり） | AX15: 通所介護（現行相当なし） | AY15: 訪問介護（介護予防サービスあり・現行相当なし） | AZ15: 介護用品給付事業
C16: 定員 | M16: 30 | AR16: =IF(COUNTA(M16:T16)=1,"〇","×") -> 〇 | AW16: 短期入所生活介護（介護予防サービスなし） | AX16: 地域密着型通所介護（現行相当あり） | AY16: 訪問介護（介護予防サービスなし・現行相当あり） | AZ16: 計画相談支援
C17: 代表者の職・氏名 | M17: 理事長 丹波 一郎 | AR17: =IF(COUNTA(M17:T17)=1,"〇","×") -> 〇 | AW17: 地域密着型介護老人福祉施設 | AX17: 地域密着型通所介護（現行相当なし） | AY17: 訪問介護（介護予防サービスなし・現行相当なし） | AZ17: 地域移行支援
C18: 電話番号 | M18: 0795-〇〇-〇〇〇〇 | AR18: =IF(COUNTA(M18:T18)=1,"〇","×") -> 〇 | AW18: 介護老人保健施設 | AX18: 認知症対応型通所介護（介護予防サービスあり） | AY18: 定期巡回・随時対応型訪問介護看護 | AZ18: 地域定着支援
C19: メールアドレス | M19: kaigohoken@tamba.co.jp | AR19: =IF(COUNTA(M19:T19)=1,"〇","×") -> 〇 | AW19: 短期入所療養介護（介護予防サービスあり） | AX19: 認知症対応型通所介護（介護予防サービスなし） | AY19: 訪問入浴介護（介護予防サービスあり）
B20: 管理者名 | C20: 職 | M20: 管理者 | AR20: =IF(COUNTA(M20:T20)=1,"〇","×") -> 〇 | AW20: 短期入所療養介護（介護予防サービスなし） | AX20: 通所リハビリテーション（介護予防サービスあり） | AY20: 訪問入浴介護（介護予防サービスなし）
C21: 氏名 | M21: 福祉 一郎 | AR21: =IF(COUNTA(M21:T21)=1,"〇","×") -> 〇 | AW21: 認知症対応型共同生活介護（介護予防サービスあり） | AX21: 通所リハビリテーション（介護予防サービスなし） | AY21: 訪問看護（介護予防サービスあり）
C22: 電話番号 | M22: 0795-〇〇-〇〇〇〇 | AR22: =IF(COUNTA(M22:T22)=1,"〇","×") -> 〇 | AW22: 認知症対応型共同生活介護（介護予防サービスなし） | AX22: 小規模多機能型居宅介護（介護予防サービスあり） | AY22: 訪問看護（介護予防サービスなし）
C23: メールアドレス | M23: kaigohoken@tamba.co.jp | AR23: =IF(COUNTA(M23:T23)=1,"〇","×") -> 〇 | AW23: 養護老人ホーム | AX23: 小規模多機能型居宅介護（介護予防サービスなし） | AY23: 訪問リハビリテーション（介護予防サービスあり）
B24: 書類発行 責任者 | C24: 氏名 | AW24: 軽費老人ホーム | AX24: 介護予防・日常生活支援総合事業第１号通所事業（国基準通所型サービス） | AY24: 訪問リハビリテーション（介護予防サービスなし）
A25: TRUE | C25: (上記管理者と同じ場合) | AR25: =IF(A25=TRUE,"〇",IF(COUNTA(M24)=1,"〇","×")) -> 〇 | AW25: 短期入所 | AX25: 生活介護 | AY25: 介護予防・日常生活支援総合事業第１号訪問事業（国基準訪問型サービス）
C26: 電話番号 | AW26: 施設入所施設 | AX26: 就労移行支援 | AY26: 配食サービス事業
A27: TRUE | C27: (上記電話番号と同じ場合) | AR27: =IF(A27=TRUE,"〇",IF(COUNTA(M26)=1,"〇","×")) -> 〇 | AW27: 共同生活援助 | AX27: 就労継続支援（A型・B型） | AY27: 居宅介護
C28: メールアドレス | AW28: 福祉型障害児入所施設 | AX28: 児童発達支援 | AY28: 同行援護
A29: TRUE | C29: (上記アドレスと同じ場合) | AR29: =IF(A29=TRUE,"〇",IF(COUNTA(M28)=1,"〇","×")) -> 〇 | AW29: 児童養護施設 | AX29: 放課後等デイサービス | AY29: 重度訪問介護
B30: 書類作成 担当者 | C30: 氏名 | M30: 介護 花子 | AY30: 就労定着支援
A31: FALSE | C31: (上記管理者と同じ場合) | AR31: =IF(A31=TRUE,"〇",IF(COUNTA(M30)=1,"〇","×")) -> 〇 | AY31: 自立生活援助
C32: 電話番号 | M32: 0795-〇〇-〇〇〇〇
A33: FALSE | C33: (上記電話番号と同じ場合) | AR33: =IF(A33=TRUE,"〇",IF(COUNTA(M32)=1,"〇","×")) -> 〇
C34: メールアドレス | M34: kaigohoken_day@tamba.co.jp
A35: FALSE | C35: 上記アドレスと同じ場合 | AR35: =IF(A35=TRUE,"〇",IF(COUNTA(M34)=1,"〇","×")) -> 〇
B36: 振込口座情報 | C36: 金融機関コード | M36: 〇 | O36: 〇 | Q36: 〇 | S36: 〇 | U36: ― | W36: 〇 | Y36: 〇 | AA36: 〇 | AR36: =IF(COUNTA(M36:AB36)=8,"〇","×") -> 〇
C37: 金融機関名 | M37: 〇〇銀行 | AR37: =IF(COUNTA(M37)=1,"〇","×") -> 〇
C38: 店名 | M38: 〇〇 | AR38: =IF(COUNTA(M38)=1,"〇","×") -> 〇
C39: 預金種類 | M39: 1 | O39: １．普通 ２．当座 （数字を記入してください。） | AR39: =IF(COUNTA(M39)=1,"〇","×") -> 〇
C40: 口座番号 | M40: 1 | O40: 2 | Q40: 3 | S40: 4 | U40: 5 | W40: 6 | Y40: 7 | AR40: =IF(COUNTA(M40:Z40)=7,"〇","×") -> 〇
C41: 口座名義カナ | M41: ｼﾔｶｲﾌｸｼﾎｳｼﾞﾝ〇〇ﾌｸｼｶｲ ﾘｼﾞﾁﾖｳ ﾀﾝﾊﾞ ｲﾁﾛｳ | AR41: =IF(COUNTA(M41:AP41)=1,"〇","×") -> 〇
D42: ※口座名義（カナ）：通帳の見開き等に記載されているカタカナの名義をスペースを含め正確に記載してください。
D43: （通帳の表面にある漢字の名義ではありませんので、十分注意してください。）
B45: 【確認事項及び同意事項】（いずれもチェックすることにより、交付申請額が正しく表示されます。）
A46: TRUE | C46: 光熱費の支払額、実績等の内容に相違なく、申請に用いた支出等に係る証拠書類及び実績人数の根拠資料を令和８年度末まで適切に整備保管します。
A47: TRUE | C47: 支援金申請について他の物価高騰対策補助等事業(県の補助事業である「令和８年介護事業所等及び介護施設等に対するサービス継続支援事業」)と重複した申請はしていません。
A48: TRUE | C48: 支援金の重複を防ぐため、他の物価高騰対策支援事業に対して、申請内容等の情報を提供されることに同意します。
A49: TRUE | C49: 支援金事務を適正に執行するために事業所へ訪問し書類等の確認を受けることに同意します。
B50: （車両燃料費を含む場合）
A51: TRUE | C51: 申請する車両は、専ら利用者の輸送・送迎・介護職員等による利用者の居宅への訪問等に使用するものです。

Sheet 実績報告書 (記入例)
A1: 丹波市福祉事業所物価高騰対策支援金実績報告書
A3: （１）事業所名 | C3: ='基本シート (記入例)'!M10 -> 〇〇福祉会デイサービスセンター
A4: 法人名 | C4: ='基本シート (記入例)'!M7 -> 社会福祉法人〇〇福祉会
A6: （２）事業所区分 | C6: 通所系事業所（入浴介助あり） | F6: ←プルダウンリストから該当する事業所区分を選択
A8: （３）実績人数について | D8: ※入力の有無 | F8: =IF(OR(C6="入所系事業所",C6="通所系事業所（入浴介助あり）",C6="通所系事業所（入浴介助なし）"),"必要","不要") -> 必要 | H8: 定員 | I8: ='基本シート (記入例)'!M16 -> 30 | J8: 人
A9: 対象月 | B9: R8.4 | C9: R8.5 | D9: R8.6 | E9: R8.7 | F9: R8.8 | G9: R8.9 | N9: 計 | P9: 光熱費支援金額
A10: 延利用人数 | B10: 600 | C10: 630 | D10: 660 | E10: 700 | F10: 680 | G10: 700
A11: 運営日数 | B11: 23 | C11: 24 | D11: 25 | E11: 23 | F11: 23 | G11: 24
A12: 実績人数 | B12: =IFERROR(ROUNDDOWN(B10/B11,1),0) -> 26 | C12: =IFERROR(ROUNDDOWN(C10/C11,1),0) -> 26.2 | D12: =IFERROR(ROUNDDOWN(D10/D11,1),0) -> 26.4 | E12: =IFERROR(ROUNDDOWN(E10/E11,1),0) -> 30.4 | F12: =IFERROR(ROUNDDOWN(F10/F11,1),0) -> 29.5 | G12: =IFERROR(ROUNDDOWN(G10/G11,1),0) -> 29.1 | H12: =IFERROR(ROUNDDOWN(H10/H11,1),0) -> 0 | I12: =IFERROR(ROUNDDOWN(I10/I11,1),0) -> 0 | ... M12: =IFERROR(ROUNDDOWN(M10/M11,1),0) -> 0 | N12: =SUM(B12:M12) -> 167.6 | P12: =N12*C45 -> 134080
A13: 定員チェック | B13: =IF(B12>$I$8,"×","") | C13: =IF(C12>$I$8,"×","") | D13: =IF(D12>$I$8,"×","") | E13: =IF(E12>$I$8,"×","") -> × | F13: =IF(F12>$I$8,"×","") | G13: =IF(G12>$I$8,"×","") | H13: =IF(H12>$I$8,"×","") | I13: =IF(I12>$I$8,"×","") | ... M13: =IF(M12>$I$8,"×","") | O13: 支援上限に関する協議 | Q13: =IF(P12>0.2*N19,"要協議","協議不要") -> 要協議
A14: 注）事業所ごとに、1月の延べ利用人数をサービス提供日数で除した数を1月の実績人数とし、小数点第2位以下を切り捨てた値とする。
A15: 注）同一の場所において、1日の内に時間を変えて複数回の事業の実施、または異なる事業を実施する場合は、いずれかの事業についてのみ実績人数とする。
A17: （４）光熱費の支払額について | D17: ※入力の有無 | F17: =IF(OR(C6="入所系事業所",C6="通所系事業所（入浴介助あり）",C6="通所系事業所（入浴介助なし）"),"必要","不要") -> 必要
A18: 対象月 | B18: R8.4 | C18: R8.5 | D18: R8.6 | E18: R8.7 | F18: R8.8 | G18: R8.9 | N18: 支払額合計
A19: 支払額 | B19: 180000 | C19: 120000 | D19: 60000 | E19: 55000 | F19: 45000 | G19: 65000 | N19: =SUM(B19:M19) -> 525000
A20: 注）光熱費：ガソリン、軽油及び電気の購入または利用代金をいう。
A21: 注）根拠資料の確認を行う場合があります。各事業所で根拠資料の保管（令和８年度末まで）をお願いします。
A24: （５）車両保有台数（送迎・訪問用）について | G24: ※入力の有無 | I24: =IF(OR(C6="通所系事業所（入浴介助あり）",C6="通所系事業所（入浴介助なし）",C6="訪問系事業所",C6="相談系事業所"),"必要","不要") -> 必要 | L24: 基準日 | M24: 46296
B26: 大型ワゴン車（2,401cc以上） | E26: 1 | F26: 台
B27: 普通車（661cc～2,400cc） | E27: 1 | F27: 台
B28: 軽自動車（660cc以下） | E28: 1 | F28: 台 | G28: 車両支援金額 | I28: =E26*G46+E27*G47+E28*G48 -> 60000
B29: 注）申請時に各車両の車検証（写）を添付してください。
B30: 注）電子車検証の場合は、一緒に発行されている「自動車検査証記録事項」や「自動車損害賠償責任保険証明書」の添付をお願いします。
B31: 注）車両を1台も所有しない法人は、車両燃料費を負担する事業の用に専ら使用する法人名義以外の車両がある場合には、1台に限り申請することができます。
A34: （６） | B34: 支援金額総計 | D34: =ROUNDDOWN((P12+I28),-3) -> 194000 | F34: ※千円未満切り捨て
A38: 事業所区分
A39: 入所系事業所
A40: 通所系事業所（入浴介助あり）
A41: 通所系事業所（入浴介助なし）
A42: 訪問系事業所
A43: 相談系事業所
A45: 支援基準額（光熱費） | C45: =IFERROR(VLOOKUP(C6,A46:B48,2,FALSE),"0") -> 800 | E45: 支援基準額（車輛燃料費）
A46: 入所系事業所 | B46: 1900 | E46: 大型ワゴン車 | G46: =IFERROR(VLOOKUP(C6,A49:C52,3,FALSE),"0") -> 30000
A47: 通所系事業所（入浴介助あり） | B47: 800 | E47: 普通車 | G47: =IFERROR(VLOOKUP(C6,A53:C56,3,FALSE),"0") -> 18000
A48: 通所系事業所（入浴介助なし） | B48: 500 | E48: 軽自動車 | G48: =IFERROR(VLOOKUP(C6,A57:C61,3,FALSE),"0") -> 12000
A49: 通所系事業所（入浴介助あり） | B49: 大型ワゴン車 | C49: 30000
A50: 通所系事業所（入浴介助なし） | B50: 大型ワゴン車 | C50: 30000
A51: 訪問系事業所 | B51: 大型ワゴン車 | C51: 30000
A52: 相談系事業所 | B52: 大型ワゴン車 | C52: 30000
A53: 通所系事業所（入浴介助あり） | B53: 普通車 | C53: 18000
A54: 通所系事業所（入浴介助なし） | B54: 普通車 | C54: 18000
A55: 訪問系事業所 | B55: 普通車 | C55: 18000
A56: 相談系事業所 | B56: 普通車 | C56: 18000
A57: 通所系事業所（入浴介助あり） | B57: 軽自動車 | C57: 12000
A58: 通所系事業所（入浴介助なし） | B58: 軽自動車 | C58: 12000
A59: 訪問系事業所 | B59: 軽自動車 | C59: 12000
A60: 相談系事業所 | B60: 軽自動車 | C60: 12000

Sheet 実績報告書②（記入例）
C1: 丹波市福祉事業所物価高騰対策支援金実績報告書 【訪問系事業所・相談系事業所】
C2: ※ このシートで申請できる訪問系事業所及び相談系事業所の車両においては、支援対象者である運営事業所と雇用契約を締結している事業所名、代表者、役員以外の従業員等が使用する車両で、かつ、対象期間に訪問実績のある場合には、車両燃料費支援金の申請ができます。（代表者、役員が使用する車両は（２）実績報告書シートに入力してください。） 下記に該当車両について入力いただき、各職員の雇用契約書（写）、各車両の車検証（写）と一緒にご申請ください。 （注意）車両情報の記載があっても、職員の雇用契約書（写）、各車両の車検証（写）の添付がない場合は対象となりません。
C3: 【確認事項及び同意事項】（チェックがあることにより、下記入力欄が表示されます。）
A4: TRUE | B4: FALSE | D4: 申請する車両は、専ら利用者の輸送・送迎・介護職員等による利用者の居宅への訪問等に使用するものです。
B6: （１）事業所名 | E6: ='基本シート (記入例)'!M10 -> 〇〇福祉会デイサービスセンター
B7: 法人名 | E7: ='基本シート (記入例)'!M7 -> 社会福祉法人〇〇福祉会
B9: （２）事業所区分 | E9: ='実績報告書 (記入例)'!C6 -> 通所系事業所（入浴介助あり）
G10: ※入力の有無 | I10: =IF(OR(E9="訪問系事業所",E9="相談系事業所"),"必要","不要") -> 不要
B11: （３）実績訪問件数について | K11: 定員 | L11: ='(1)基本シート'!M16 -> 0 | M11: 人
A12: 車両、実積の有無 | B12: No | C12: 職員名 | D12: 車両名義人 | E12: 職員との関係 | F12: 車両番号 | G12: 車両区分 | H12: R8.4 | I12: R8.5 | J12: R8.6 | K12: R8.7 | L12: R8.8 | M12: R8.9 | T12: 訪問件数合計
A13: =IF(AND(C13<>"",D13<>"",E13<>"",F13<>"",G13<>"",T13>0),"有","") -> 有 | B13: 例 | C13: 丹波 花子 | D13: 丹波 太郎 | E13: 配偶者 | F13: 神戸000あ0000 | G13: 普通車 | H13: 12 | I13: 11 | J13: 4 | K13: 0 | L13: 9 | M13: 12 | T13: =SUM(H13:S13) -> 48
A14: =IF(AND(C14<>"",D14<>"",E14<>"",F14<>"",G14<>"",T14>0),"有","") | B14: 1 | T14: =SUM(H14:S14) -> 0
A15: =IF(AND(C15<>"",D15<>"",E15<>"",F15<>"",G15<>"",T15>0),"有","") | B15: 2 | T15: =SUM(H15:S15) -> 0
A16: =IF(AND(C16<>"",D16<>"",E16<>"",F16<>"",G16<>"",T16>0),"有","") | B16: 3 | T16: =SUM(H16:S16) -> 0
A17: =IF(AND(C17<>"",D17<>"",E17<>"",F17<>"",G17<>"",T17>0),"有","") | B17: 4 | T17: =SUM(H17:S17) -> 0
A18: =IF(AND(C18<>"",D18<>"",E18<>"",F18<>"",G18<>"",T18>0),"有","") | B18: 5 | T18: =SUM(H18:S18) -> 0
A19: =IF(AND(C19<>"",D19<>"",E19<>"",F19<>"",G19<>"",T19>0),"有","") | B19: 6 | T19: =SUM(H19:S19) -> 0
A20: =IF(AND(C20<>"",D20<>"",E20<>"",F20<>"",G20<>"",T20>0),"有","") | B20: 7 | T20: =SUM(H20:S20) -> 0
A21: =IF(AND(C21<>"",D21<>"",E21<>"",F21<>"",G21<>"",T21>0),"有","") | B21: 8 | T21: =SUM(H21:S21) -> 0
A22: =IF(AND(C22<>"",D22<>"",E22<>"",F22<>"",G22<>"",T22>0),"有","") | B22: 9 | T22: =SUM(H22:S22) -> 0
A23: =IF(AND(C23<>"",D23<>"",E23<>"",F23<>"",G23<>"",T23>0),"有","") | B23: 10 | T23: =SUM(H23:S23) -> 0
A24: =IF(AND(C24<>"",D24<>"",E24<>"",F24<>"",G24<>"",T24>0),"有","") | B24: 11 | T24: =SUM(H24:S24) -> 0
A25: =IF(AND(C25<>"",D25<>"",E25<>"",F25<>"",G25<>"",T25>0),"有","") | B25: 12 | T25: =SUM(H25:S25) -> 0
... A73: =IF(AND(C73<>"",D73<>"",E73<>"",F73<>"",G73<>"",T73>0),"有","") | B73: 60 | T73: =SUM(H73:S73) -> 0
B74: 計 | C74: =COUNTA(C14:C73) -> 0 | D74: =COUNTA(D14:D73) -> 0
C75: 注）申請時に各職員の雇用契約書（写）、各車両の車検証（写）を添付してください。
C76: 注）電子車検証の場合は、一緒に発行されている「自動車検査証記録事項」や「自動車損害賠償責任保険証明書」の添付をお願いします。
C77: 注）根拠資料の確認を行う場合があります。各事業所で根拠資料の保管（令和８年度末まで）をお願いします。
C79: 注）（２）実績報告書のシートで入力した車両について、重複申請は不可のであるためこのシートには入力しないでください。
D81: 大型ワゴン車（2,401cc以上） | F81: =COUNTIF($G$14:$G$73,"大型ワゴン車") -> 0 | G81: 台 | H81: 基準日 | J81: 46296
D82: 普通車（661cc～2,400cc） | F82: =COUNTIF($G$14:$G$73,"普通車") -> 0 | G82: 台
D83: 軽自動車（660cc以下） | F83: =COUNTIF($G$14:$G$73,"軽自動車") -> 0 | G83: 台 | H83: 車両支援金額 | J83: =F81*J91+F82*J92+F83*J93 -> 0
B85: （４） | D85: 支援金額総計（②） | F85: =ROUNDDOWN(J83,-3) -> 0 | H85: ※千円未満切り捨て
C90: 通所系事業所（入浴介助あり） | D90: 大型ワゴン車 | E90: 30000 | H90: 支援基準額（車輛燃料費）
C91: 通所系事業所（入浴介助なし） | D91: 大型ワゴン車 | E91: 30000 | H91: 大型ワゴン車 | J91: =IFERROR(VLOOKUP(E9,C92:E93,3,FALSE),"0") -> 0
C92: 訪問系事業所 | D92: 大型ワゴン車 | E92: 30000 | H92: 普通車 | J92: =IFERROR(VLOOKUP(E9,C96:E97,3,FALSE),"0") -> 0
C93: 相談系事業所 | D93: 大型ワゴン車 | E93: 30000 | H93: 軽自動車 | J93: =IFERROR(VLOOKUP(E9,C100:E101,3,FALSE),"0") -> 0
C94: 通所系事業所（入浴介助あり） | D94: 普通車 | E94: 18000
C95: 通所系事業所（入浴介助なし） | D95: 普通車 | E95: 18000
C96: 訪問系事業所 | D96: 普通車 | E96: 18000
C97: 相談系事業所 | D97: 普通車 | E97: 18000
C98: 通所系事業所（入浴介助あり） | D98: 軽自動車 | E98: 12000
C99: 通所系事業所（入浴介助なし） | D99: 軽自動車 | E99: 12000
C100: 訪問系事業所 | D100: 軽自動車 | E100: 12000
C101: 相談系事業所 | D101: 軽自動車 | E101: 12000

Sheet 申請書兼請求書 (記入例)
A3: 丹波市福祉事業所物価高騰対策支援金交付申請書兼請求書
AL6: 年
AE7: ='基本シート (記入例)'!M6 -> 46317 | AF7: ='基本シート (記入例)'!S6 -> 0 | AG7: ='基本シート (記入例)'!T6 -> 0 | AH7: ='基本シート (記入例)'!U6 -> 0 | AI7: ='基本シート (記入例)'!V6 -> 0 | AJ7: ='基本シート (記入例)'!W6 -> 0 | AK7: =IF(COUNTA(AE7)=1,"〇","×") -> 〇 | AL7: 月
A9: 丹波市長 林 時彦 様 | AL9: 日
N12: 申請者名 | S12: ='基本シート (記入例)'!M7 -> 社会福祉法人〇〇福祉会 | AK12: =IF(COUNTA(S12)=1,"〇","×") -> 〇
N14: 申請者住所 | S14: ='基本シート (記入例)'!M9 -> 丹波市柏原町柏原〇〇〇〇番地 | AK14: =IF(COUNTA(S14)=1,"〇","×") -> 〇 | AL14: 申請者 | AN14: 様式第1
N16: 代表者の職・氏名 | W16: ='基本シート (記入例)'!M17 -> 理事長 丹波 一郎 | AK16: =IF(COUNTA(W16)=1,"〇","×") -> 〇 | AL16: 担当氏名
N18: 電話番号 | W18: ='基本シート (記入例)'!M22 -> 0795-〇〇-〇〇〇〇 | AK18: =IF(COUNTA(W18)=1,"〇","×") -> 〇 | AL18: 電話番号
N20: メールアドレス | W20: ='基本シート (記入例)'!M23 -> kaigohoken@tamba.co.jp | AK20: =IF(COUNTA(W20)=1,"〇","×") -> 〇 | AL20: メルアド
N22: 事業所番号 | S22: ='基本シート (記入例)'!M13 -> 〇〇〇〇〇〇〇〇〇〇〇 | AK22: =IF(COUNTA(S22)=1,"〇","×") -> 〇 | AL22: 代表職名
AL23: 氏名
N24: 事業所名 | S24: ='基本シート (記入例)'!M10 -> 〇〇福祉会デイサービスセンター | AK24: =IF(COUNTA(S24)=1,"〇","×") -> 〇 | AL24: 所在地
N26: 事業所住所 | S26: ='基本シート (記入例)'!M12 -> 丹波市氷上町常楽〇〇〇番地 | AK26: =IF(COUNTA(S26)=1,"〇","×") -> 〇 | AL26: 申請者 | AN26: 様式第1
N28: 事業所区分 | W28: ='実績報告書 (記入例)'!C6 -> 通所系事業所（入浴介助あり） | AK28: =IF(COUNTA(W28)=1,"〇","×") -> 〇 | AL28: 担当氏名
N30: 事業種別 | W30: ='基本シート (記入例)'!M15 -> 通所介護（現行相当あり） | AK30: =IF(COUNTA(W30)=1,"〇","×") -> 〇 | AL30: 担当氏名
N32: 管理者氏名 | W32: ='基本シート (記入例)'!M21 -> 福祉 一郎 | AK32: =IF(COUNTA(W32)=1,"〇","×") -> 〇 | AL32: 担当氏名
A35: 丹波市福祉事業所物価高騰対策支援金について、下記のとおり支援金を交付願いたく、丹波市福祉事業所物価高騰対策支援金交付要綱第５条の規定により関係書類を添えて申請及び請求します。
A37: 1 | B37: 申請（請求）額 | J37: ='実績報告書 (記入例)'!D34+'実績報告書②（記入例）'!F85 -> 194000 | R37: 円 | AL37: 車両台数は０ではないか。
A39: 2 | B39: 振込先の口座 | AL39: 車両台数は０ではないか。
A40: 振込先情報 | B40: 金融機関コード | G40: ='基本シート (記入例)'!M36 -> 〇 | H40: ='基本シート (記入例)'!O36 -> 〇 | I40: ='基本シート (記入例)'!Q36 -> 〇 | J40: ='基本シート (記入例)'!S36 -> 〇 | AK40: =IF(COUNTA(G40:J40)=4,"〇","×") -> 〇 | AL40: 金融機関コード
B41: 支店番号 | G41: ='基本シート (記入例)'!W36 -> 〇 | H41: ='基本シート (記入例)'!Y36 -> 〇 | I41: ='基本シート (記入例)'!AA36 -> 〇 | AK41: =IF(COUNTA(G41:I41)=3,"〇","×") -> 〇 | AL41: 支店番号
B42: 金融機関名 | G42: ='基本シート (記入例)'!M37 -> 〇〇銀行 | AK42: =IF(COUNTA(G42)=1,"〇","×") -> 〇 | AL42: 金融機関名
B43: 店 名 | G43: ='基本シート (記入例)'!M38 -> 〇〇 | AK43: =IF(COUNTA(G43)=1,"〇","×") -> 〇 | AL43: 店名
B44: 預金種類 | G44: ='基本シート (記入例)'!M39 -> 1 | I44: １．普通 ２．当座 （数字を記入してください。） | AK44: =IF(COUNTA(G44)=1,"〇","×") -> 〇 | AL44: 預金種類
B45: 口座番号 | G45: ='基本シート (記入例)'!M40 -> 1 | H45: ='基本シート (記入例)'!O40 -> 2 | I45: ='基本シート (記入例)'!Q40 -> 3 | J45: ='基本シート (記入例)'!S40 -> 4 | K45: ='基本シート (記入例)'!U40 -> 5 | L45: ='基本シート (記入例)'!W40 -> 6 | M45: ='基本シート (記入例)'!Y40 -> 7 | AK45: =IF(COUNTA(G45:M45)=7,"〇","×") -> 〇 | AL45: 口座番号
B46: 口座名義（ｶﾅ） | G46: ='基本シート (記入例)'!M41 -> ｼﾔｶｲﾌｸｼﾎｳｼﾞﾝ〇〇ﾌｸｼｶｲ ﾘｼﾞﾁﾖｳ ﾀﾝﾊﾞ ｲﾁﾛｳ | AK46: =IF(COUNTA(G46:AJ46)>=1,"〇","×") -> 〇 | AL46: （フリガナ）
A48: 3 | B48: 申請書兼請求書発行責任者 | R48: 4 | S48: 担当者氏名
A49: 発行責任者 | G49: =IF('基本シート (記入例)'!A25=TRUE,'基本シート (記入例)'!M21,'基本シート (記入例)'!M24) -> 福祉 一郎 | R49: 担当者氏名 | X49: =IF('基本シート (記入例)'!A31=TRUE,'基本シート (記入例)'!M21,'基本シート (記入例)'!M30) -> 介護 花子
A50: 電話番号 | G50: =IF('基本シート (記入例)'!A27=TRUE,'基本シート (記入例)'!M22,'基本シート (記入例)'!M26) -> 0795-〇〇-〇〇〇〇 | R50: 電話番号 | X50: =IF('基本シート (記入例)'!A33=TRUE,'基本シート (記入例)'!M22,'基本シート (記入例)'!M32) -> 0795-〇〇-〇〇〇〇 | AL50: TRUE
A51: メールアドレス | G51: =IF('基本シート (記入例)'!A29=TRUE,'基本シート (記入例)'!M23,'基本シート (記入例)'!M28) -> kaigohoken@tamba.co.jp | R51: メールアドレス | X51: =IF('基本シート (記入例)'!A35=TRUE,'基本シート (記入例)'!M23,'基本シート (記入例)'!M34) -> kaigohoken_day@tamba.co.jp
B55: 【確認事項及び同意事項】（いずれにもチェックがあることにより、交付申請額が正しく表示されます。）
C56: ='基本シート (記入例)'!C46:AG46 -> 光熱費の支払額、実績等の内容に相違なく、申請に用いた支出等に係る証拠書類及び実績人数の根拠資料を令和８年度末まで適切に整備保管します。
C57: ='基本シート (記入例)'!C47:AG47 -> 支援金申請について他の物価高騰対策補助等事業(県の補助事業である「令和８年介護事業所等及び介護施設等に対するサービス継続支援事業」)と重複した申請はしていません。
C58: ='基本シート (記入例)'!C48:AG48 -> 支援金の重複を防ぐため、他の物価高騰対策支援事業に対して、申請内容等の情報を提供されることに同意します。
C59: ='基本シート (記入例)'!C49:AG49 -> 支援金事務を適正に執行するために事業所へ訪問し書類等の確認を受けることに同意します。
B60: （車両燃料費を含む場合）
C61: ='基本シート (記入例)'!C51:AG51 -> 申請する車両は、専ら利用者の輸送・送迎・介護職員等による利用者の居宅への訪問等に使用するものです。

Sheet 定員超過理由書 (記入例)
A1: 丹波市福祉事業所物価高騰対策支援金 定員超過理由書
T3: 提出日 | X3: ='基本シート (記入例)'!M6 -> 46317
J5: 事業所名 | N5: ='基本シート (記入例)'!M10 -> 〇〇福祉会デイサービスセンター
J7: 事業所区分 | N7: ='基本シート (記入例)'!M14 -> 通所系事業所
J9: 事業種別 | N9: ='基本シート (記入例)'!M15 -> 通所介護（現行相当あり）
B12: =IF('実績報告書 (記入例)'!$B$13="×","〇","") | C12: 令和８年４月定員超過理由
B16: =IF('実績報告書 (記入例)'!$C$13="×","〇","") | C16: 令和８年５月定員超過理由
B20: =IF('実績報告書 (記入例)'!$D$13="×","〇","") | C20: 令和８年６月定員超過理由
B24: =IF('実績報告書 (記入例)'!$E$13="×","〇","") -> 〇 | C24: 令和８年７月定員超過理由
C25: 虐待による定員超過
B28: =IF('実績報告書 (記入例)'!$F$13="×","〇","") | C28: 令和８年８月定員超過理由
B32: =IF('実績報告書 (記入例)'!$G$13="×","〇","") | C32: 令和８年９月定員超過理由
B36: =IF('実績報告書 (記入例)'!$F$13="×","〇","")
B40: =IF('実績報告書 (記入例)'!$G$13="×","〇","")
B44: =IF('実績報告書 (記入例)'!$F$13="×","〇","")
B48: =IF('実績報告書 (記入例)'!$G$13="×","〇","")
B52: =IF('実績報告書 (記入例)'!$F$13="×","〇","")
B56: =IF('実績報告書 (記入例)'!$G$13="×","〇","")

Sheet 質問票
E1: 令和 年 月 日
A3: 丹波市福祉事業所物価高騰対策支援金
A4: 質 問 票
A6: 質問は原則この「質問票」でお願いします。
A7: 回答はQ&Aを更新し、ホームページにて公表しますのでご確認ください。
A10: 送付先：丹波市福祉部介護保険課 物価高騰対策支援金担当あて
A11: ＦＡＸ番号：0795-88-5283
A12: 質問の種類
A13: 事業所区分
A14: 質問されるサービスの種類
A15: 質問事項
A16: 質問者 | B16: 事業所・施設名
B17: 事業所所在地
B18: 事業・サービスの種類
B19: 質問者（職・氏名）
B20: ＴＥＬ番号
B21: ＦＡＸ番号
B22: ＊ＦＡＸ送付票は不要です。 | E22: 送付枚数本紙とも： 枚

Sheet 集計用
B2: 集計 | C2: ① | D2: ② | E2: ③ | F2: ④ | G2: ⑤
B3: 項目名 | C3: 役立度 | D3: 申請手続き | E3: 支援金種類、支援金基準額 | F3: その他必要な支援 | G3: その他（ご要望・ご意見）
B4: =アンケート!N6 -> 0 | C4: =アンケート!$X$13 -> 0 | D4: =アンケート!$X$16 -> 0 | E4: =アンケート!$X$19 -> 0 | F4: =アンケート!$C$29 -> 0 | G4: =アンケート!$C$34 -> 0
